BEGIN:VCALENDAR
VERSION:2.0
PRODID:-//Duncan Christian School - ECPv6.15.18//NONSGML v1.0//EN
CALSCALE:GREGORIAN
METHOD:PUBLISH
X-WR-CALNAME:Duncan Christian School
X-ORIGINAL-URL:https://www.duncanchristianschool.ca
X-WR-CALDESC:Events for Duncan Christian School
REFRESH-INTERVAL;VALUE=DURATION:PT1H
X-Robots-Tag:noindex
X-PUBLISHED-TTL:PT1H
BEGIN:VTIMEZONE
TZID:America/Vancouver
BEGIN:DAYLIGHT
TZOFFSETFROM:-0800
TZOFFSETTO:-0700
TZNAME:PDT
DTSTART:20250309T100000
END:DAYLIGHT
BEGIN:STANDARD
TZOFFSETFROM:-0700
TZOFFSETTO:-0800
TZNAME:PST
DTSTART:20251102T090000
END:STANDARD
BEGIN:DAYLIGHT
TZOFFSETFROM:-0800
TZOFFSETTO:-0700
TZNAME:PDT
DTSTART:20260308T100000
END:DAYLIGHT
BEGIN:STANDARD
TZOFFSETFROM:-0700
TZOFFSETTO:-0800
TZNAME:PST
DTSTART:20261101T090000
END:STANDARD
BEGIN:DAYLIGHT
TZOFFSETFROM:-0800
TZOFFSETTO:-0700
TZNAME:PDT
DTSTART:20270314T100000
END:DAYLIGHT
BEGIN:STANDARD
TZOFFSETFROM:-0700
TZOFFSETTO:-0800
TZNAME:PST
DTSTART:20271107T090000
END:STANDARD
END:VTIMEZONE
BEGIN:VEVENT
DTSTART;VALUE=DATE:20260424
DTEND;VALUE=DATE:20260425
DTSTAMP:20260424T012540
CREATED:20250627T202002Z
LAST-MODIFIED:20260424T073829Z
UID:10000762-1776988800-1777075199@www.duncanchristianschool.ca
SUMMARY:Secondary Report Card Day
DESCRIPTION:
URL:https://www.duncanchristianschool.ca/event/secondary-report-card-day-7/
END:VEVENT
BEGIN:VEVENT
DTSTART;VALUE=DATE:20260424
DTEND;VALUE=DATE:20260425
DTSTAMP:20260424T012540
CREATED:20250627T202002Z
LAST-MODIFIED:20260424T073829Z
UID:10000763-1776988800-1777075199@www.duncanchristianschool.ca
SUMMARY:PLC Afternoon (1230 dismissal)
DESCRIPTION:
URL:https://www.duncanchristianschool.ca/event/plc-afternoon-1230-dismissal-4/
END:VEVENT
END:VCALENDAR